BEGIN:VCALENDAR
VERSION:2.0
PRODID:-//Yalding Parish Council//Meeting Calendar//EN
CALSCALE:GREGORIAN
METHOD:PUBLISH
BEGIN:VEVENT
UID:70743-2026-03-17@yaldingparishcouncil.gov.uk
DTSTAMP:20260421T170728Z
DTSTART;VALUE=DATE:2026-03-17
DTEND;VALUE=DATE:20260318
SUMMARY:Extraordinary Meeting &#8211\\; 17 March 2026
DESCRIPTION:Council Meeting\nView details: https://yaldingparishcouncil.gov.uk/meetings/extraordinary-meeting-17-march-2026/
URL:https://yaldingparishcouncil.gov.uk/meetings/extraordinary-meeting-17-march-2026/
END:VEVENT
END:VCALENDAR
